BEGIN:VCALENDAR
VERSION:2.0
PRODID:-//Oregon Latino Health Coalition - ECPv6.15.20//NONSGML v1.0//EN
CALSCALE:GREGORIAN
METHOD:PUBLISH
X-WR-CALNAME:Oregon Latino Health Coalition
X-ORIGINAL-URL:https://orlhc.org
X-WR-CALDESC:Events for Oregon Latino Health Coalition
REFRESH-INTERVAL;VALUE=DURATION:PT1H
X-Robots-Tag:noindex
X-PUBLISHED-TTL:PT1H
BEGIN:VTIMEZONE
TZID:America/Denver
BEGIN:DAYLIGHT
TZOFFSETFROM:-0700
TZOFFSETTO:-0600
TZNAME:MDT
DTSTART:20170312T090000
END:DAYLIGHT
BEGIN:STANDARD
TZOFFSETFROM:-0600
TZOFFSETTO:-0700
TZNAME:MST
DTSTART:20171105T080000
END:STANDARD
BEGIN:DAYLIGHT
TZOFFSETFROM:-0700
TZOFFSETTO:-0600
TZNAME:MDT
DTSTART:20180311T090000
END:DAYLIGHT
BEGIN:STANDARD
TZOFFSETFROM:-0600
TZOFFSETTO:-0700
TZNAME:MST
DTSTART:20181104T080000
END:STANDARD
BEGIN:DAYLIGHT
TZOFFSETFROM:-0700
TZOFFSETTO:-0600
TZNAME:MDT
DTSTART:20190310T090000
END:DAYLIGHT
BEGIN:STANDARD
TZOFFSETFROM:-0600
TZOFFSETTO:-0700
TZNAME:MST
DTSTART:20191103T080000
END:STANDARD
BEGIN:DAYLIGHT
TZOFFSETFROM:-0700
TZOFFSETTO:-0600
TZNAME:MDT
DTSTART:20200308T090000
END:DAYLIGHT
BEGIN:STANDARD
TZOFFSETFROM:-0600
TZOFFSETTO:-0700
TZNAME:MST
DTSTART:20201101T080000
END:STANDARD
BEGIN:DAYLIGHT
TZOFFSETFROM:-0700
TZOFFSETTO:-0600
TZNAME:MDT
DTSTART:20210314T090000
END:DAYLIGHT
BEGIN:STANDARD
TZOFFSETFROM:-0600
TZOFFSETTO:-0700
TZNAME:MST
DTSTART:20211107T080000
END:STANDARD
END:VTIMEZONE
BEGIN:VEVENT
DTSTART;TZID=America/Denver:20201003T100000
DTEND;TZID=America/Denver:20201003T150000
DTSTAMP:20260423T122956
CREATED:20200922T224857Z
LAST-MODIFIED:20200922T224915Z
UID:19593-1601719200-1601737200@orlhc.org
SUMMARY:Latinx Community Free COVID-19 Test Event
DESCRIPTION:
URL:https://orlhc.org/event/latinx-community-free-covid-19-test-event-2/
LOCATION:Latino Network Rockwood Office\, 312SE165th Ave.\, Portland\, OR\, 97233\, United States
ORGANIZER;CN="Oregon Latino Health Coalition":MAILTO:info@orlhc.org
END:VEVENT
BEGIN:VEVENT
DTSTART;TZID=America/Denver:20201001T150000
DTEND;TZID=America/Denver:20201001T200000
DTSTAMP:20260423T122956
CREATED:20200922T224812Z
LAST-MODIFIED:20200922T224826Z
UID:19583-1601564400-1601582400@orlhc.org
SUMMARY:Latinx Community Free COVID-19 Test Event
DESCRIPTION:
URL:https://orlhc.org/event/latinx-community-free-covid-19-test-event/
LOCATION:Latino Network Rockwood Office\, 312SE165th Ave.\, Portland\, OR\, 97233\, United States
ORGANIZER;CN="Oregon Latino Health Coalition":MAILTO:info@orlhc.org
END:VEVENT
BEGIN:VEVENT
DTSTART;TZID=America/Denver:20181115T190000
DTEND;TZID=America/Denver:20181115T210000
DTSTAMP:20260423T122956
CREATED:20180807T084319Z
LAST-MODIFIED:20181204T224050Z
UID:18185-1542308400-1542315600@orlhc.org
SUMMARY:Annual Health Equity Dinner
DESCRIPTION:2018 Annual Health Equity Dinner: The Power of Partnership \nMelody Ballroom 615 SE Alder St. Portland\, OR 97214 \nNovember 15\, 2018 7:00-9:00pm; doors open at 6:00pm \nThe Oregon Latino Health Coalition’s Annual Health Equity Dinner is our biggest fundraising effort of the year. It helps us sustain our mission to eliminate health disparities affecting Oregon Latinas and Latinos through collaboration\, leadership\, and advocacy. \n\n\n\n\nkeynote speaker: Dr. Eva M. Galvez \n\n\n\n\n\n\n\nDr. Galvez is a board certified family physician at Virginia Garcia Memorial Health Center. She has worked at community health centers since graduating medical school. As the daughter of Mexican immigrant and seasonal farmworkers\, she has a special interest in the health issues facing Latinx and immigrant families.\n\n\n\n\nA big THANK YOU to our sponsors of this year’s Annual Health Equity Dinner:\n\n\n\n\n\n			\n			\n				\n				\n				\n				\n				\n				\n				\n				\n				\n				\n			\n			\n				\n				\n				\n				\n			\n				\n				\n				\n				\n				\n				\n				\n				\n				\n				\n				Cena Anual de Equidad en Salud 2018: El poder de las alianzas\nMelody Ballroom 615 SE Alder St. Portland\, OR 97214 \n15 de noviembre de 2018 7:00-9:00pm; las puertas abren a las 6:00pm \nLa Cena Anual de Equidad en Salud de la Oregon Latino Health Coalition es nuestro mayor esfuerzo de recaudación de fondos del año. Este evento nos ayuda a mantener nuestra misión de eliminar los problemas relacionados con la salud que afectan a la comunidad Latina en Oregón a través de la colaboración\, el liderazgo y la abogacía. \n\n\n\n\nOradora principal: Dr. Eva M. Galvez\n\n\n\n\n\nLa Dr. Gálvez es una médica de familia certificada en el centro de salud de Virginia Garcia. Ha trabajado en centros de salud comunitarios desde que se graduó de medicina. Como hija de inmigrantes mexicanos y trabajadores agrícolas de temporada\, tiene un interés especial en los problemas de salud que enfrentan Latinx y las familias inmigrantes. \n\n\nMuchas gracias a nuestros patrocinadoras de la Cena Anual de Equidad en Salud:\n\n\n\n 
URL:https://orlhc.org/event/annual-health-equity-dinner/
LOCATION:Melody Ballroom\, 615 SE Alder Street\,\, Portland\, OR\, 97214\, United States
ORGANIZER;CN="Oregon Latino Health Coalition":MAILTO:info@orlhc.org
END:VEVENT
END:VCALENDAR